BEGIN:VCALENDAR
VERSION:2.0
PRODID:Gerard Partners Real Estate Open for Inspection - Imagine
BEGIN:VTIMEZONE
TZID:Australia/Melbourne
BEGIN:STANDARD
DTSTART:20210227T120000
TZOFFSETTO:+1100
TZNAME:GMT+11
END:STANDARD
END:VTIMEZONE
BEGIN:VEVENT
UID:6037be2e71eda
DTSTART;TZID=Australia/Melbourne:20210227T120000
SEQUENCE:0
TRANSP:OPAQUE
DTEND;TZID=Australia/Melbourne:20210227T123000
LOCATION:42 Rofe Street Leichhardt NSW
SUMMARY:Gerard Partners Real Estate Open for Inspection - 42 Rofe Street
 Leichhardt NSW
CLASS:PUBLIC
DESCRIPTION:Open for Inspection: 42 Rofe Street Leichhardt NSW Saturday
 27th Feb 12:00pm - 12:30pm Click the link for full listing information:
 https://www.gerardpartners.com.au/sale/nsw/inner-west/leichhardt/residential/house/6256030
DTSTAMP:20210225T151142
END:VEVENT
END:VCALENDAR