BEGIN:VCALENDAR
VERSION:2.0
PRODID:Gerard Partners Real Estate Open for Inspection - Versatile
 property package with investment essentials
BEGIN:VTIMEZONE
TZID:Australia/Melbourne
BEGIN:STANDARD
DTSTART:20210313T110000
TZOFFSETTO:+1100
TZNAME:GMT+11
END:STANDARD
END:VTIMEZONE
BEGIN:VEVENT
UID:6037be5cf35e6
DTSTART;TZID=Australia/Melbourne:20210313T110000
SEQUENCE:0
TRANSP:OPAQUE
DTEND;TZID=Australia/Melbourne:20210313T113000
LOCATION:2 Davies Street Leichhardt NSW
SUMMARY:Gerard Partners Real Estate Open for Inspection - 2 Davies Street
 Leichhardt NSW
CLASS:PUBLIC
DESCRIPTION:Open for Inspection: 2 Davies Street Leichhardt NSW Saturday
 13th Mar 11:00am - 11:30am Click the link for full listing information:
 https://www.gerardpartners.com.au/sale/nsw/inner-west/leichhardt/residential/house/6058128
DTSTAMP:20210225T151228
END:VEVENT
END:VCALENDAR