BEGIN:VCALENDAR
VERSION:2.0
PRODID:Gerard Partners Real Estate Open for Inspection - Affordable
 Package
BEGIN:VTIMEZONE
TZID:Australia/Melbourne
BEGIN:STANDARD
DTSTART:20210313T100000
TZOFFSETTO:+1100
TZNAME:GMT+11
END:STANDARD
END:VTIMEZONE
BEGIN:VEVENT
UID:6037be588d33b
DTSTART;TZID=Australia/Melbourne:20210313T100000
SEQUENCE:0
TRANSP:OPAQUE
DTEND;TZID=Australia/Melbourne:20210313T103000
LOCATION:16/258 Johnston Street Annandale NSW
SUMMARY:Gerard Partners Real Estate Open for Inspection - 16/258 Johnston
 Street Annandale NSW
CLASS:PUBLIC
DESCRIPTION:Open for Inspection: 16/258 Johnston Street Annandale NSW
 Saturday 13th Mar 10:00am - 10:30am Click the link for full listing
 information:
 https://www.gerardpartners.com.au/sale/nsw/inner-west/annandale/residential/apartment/6281406
DTSTAMP:20210225T151224
END:VEVENT
END:VCALENDAR