BEGIN:VCALENDAR
VERSION:2.0
PRODID:Gerard Partners Real Estate Open for Inspection - DESIGNER
 APARTMENT
BEGIN:VTIMEZONE
TZID:Australia/Melbourne
BEGIN:STANDARD
DTSTART:20210304T093000
TZOFFSETTO:+1100
TZNAME:GMT+11
END:STANDARD
END:VTIMEZONE
BEGIN:VEVENT
UID:6037be3305d7e
DTSTART;TZID=Australia/Melbourne:20210304T093000
SEQUENCE:0
TRANSP:OPAQUE
DTEND;TZID=Australia/Melbourne:20210304T103000
LOCATION:102/8 Loveridge Street Alexandria NSW
SUMMARY:Gerard Partners Real Estate Open for Inspection - 102/8 Loveridge
 Street Alexandria NSW
CLASS:PUBLIC
DESCRIPTION:Open for Inspection: 102/8 Loveridge Street Alexandria NSW
 Thursday 4th Mar 09:30am - 10:30am Click the link for full listing
 information:
 https://www.gerardpartners.com.au/sale/nsw/eastern-suburbs/alexandria/residential/apartment/6256342
DTSTAMP:20210225T151147
END:VEVENT
END:VCALENDAR