BEGIN:VCALENDAR
VERSION:2.0
PRODID:Gerard Partners Real Estate Open for Inspection - Newly renovated 1
 bedroom near station!
BEGIN:VTIMEZONE
TZID:Australia/Melbourne
BEGIN:STANDARD
DTSTART:20210227T122000
TZOFFSETTO:+1100
TZNAME:GMT+11
END:STANDARD
END:VTIMEZONE
BEGIN:VEVENT
UID:6037c0a2e28c8
DTSTART;TZID=Australia/Melbourne:20210227T122000
SEQUENCE:0
TRANSP:OPAQUE
DTEND;TZID=Australia/Melbourne:20210227T123500
LOCATION:4/46 Bruce Street Stanmore NSW
SUMMARY:Gerard Partners Real Estate Open for Inspection - 4/46 Bruce
 Street Stanmore NSW
CLASS:PUBLIC
DESCRIPTION:Open for Inspection: 4/46 Bruce Street Stanmore NSW Saturday
 27th Feb 12:20pm - 12:35pm Click the link for full listing information:
 https://www.gerardpartners.com.au/lease/nsw/inner-west/stanmore/residential/unit/6058080
DTSTAMP:20210225T152210
END:VEVENT
END:VCALENDAR