BEGIN:VCALENDAR
VERSION:2.0
PRODID:Gerard Partners Real Estate Open for Inspection - Fully Furnished
 Two Bedroom Apartment!!
BEGIN:VTIMEZONE
TZID:Australia/Melbourne
BEGIN:STANDARD
DTSTART:20210227T111500
TZOFFSETTO:+1100
TZNAME:GMT+11
END:STANDARD
END:VTIMEZONE
BEGIN:VEVENT
UID:6037c06daba35
DTSTART;TZID=Australia/Melbourne:20210227T111500
SEQUENCE:0
TRANSP:OPAQUE
DTEND;TZID=Australia/Melbourne:20210227T113000
LOCATION:212/23 Corunna Road Stanmore NSW
SUMMARY:Gerard Partners Real Estate Open for Inspection - 212/23 Corunna
 Road Stanmore NSW
CLASS:PUBLIC
DESCRIPTION:Open for Inspection: 212/23 Corunna Road Stanmore NSW Saturday
 27th Feb 11:15am - 11:30am Click the link for full listing information:
 https://www.gerardpartners.com.au/lease/nsw/inner-west/stanmore/residential/apartment/6320448
DTSTAMP:20210225T152117
END:VEVENT
END:VCALENDAR