BEGIN:VCALENDAR
VERSION:2.0
PRODID:Gerard Partners Real Estate Open for Inspection - Spacious 2
 bedroom Art Deco Apartment
BEGIN:VTIMEZONE
TZID:Australia/Melbourne
BEGIN:STANDARD
DTSTART:20210227T120000
TZOFFSETTO:+1100
TZNAME:GMT+11
END:STANDARD
END:VTIMEZONE
BEGIN:VEVENT
UID:6037c0956eac9
DTSTART;TZID=Australia/Melbourne:20210227T120000
SEQUENCE:0
TRANSP:OPAQUE
DTEND;TZID=Australia/Melbourne:20210227T121500
LOCATION:1/254 Stanmore Road Stanmore NSW
SUMMARY:Gerard Partners Real Estate Open for Inspection - 1/254 Stanmore
 Road Stanmore NSW
CLASS:PUBLIC
DESCRIPTION:Open for Inspection: 1/254 Stanmore Road Stanmore NSW Saturday
 27th Feb 12:00pm - 12:15pm Click the link for full listing information:
 https://www.gerardpartners.com.au/lease/nsw/inner-west/stanmore/residential/apartment/6058122
DTSTAMP:20210225T152157
END:VEVENT
END:VCALENDAR