BEGIN:VCALENDAR
VERSION:2.0
PRODID:Gerard Partners Real Estate Open for Inspection - "AVAILABLE NOW"
 Comfort & Convenience
BEGIN:VTIMEZONE
TZID:Australia/Melbourne
BEGIN:STANDARD
DTSTART:20210227T114500
TZOFFSETTO:+1100
TZNAME:GMT+11
END:STANDARD
END:VTIMEZONE
BEGIN:VEVENT
UID:6037c089237ff
DTSTART;TZID=Australia/Melbourne:20210227T114500
SEQUENCE:0
TRANSP:OPAQUE
DTEND;TZID=Australia/Melbourne:20210227T120000
LOCATION:15 Queen Street Petersham NSW
SUMMARY:Gerard Partners Real Estate Open for Inspection - 15 Queen Street
 Petersham NSW
CLASS:PUBLIC
DESCRIPTION:Open for Inspection: 15 Queen Street Petersham NSW Saturday
 27th Feb 11:45am - 12:00pm Click the link for full listing information:
 https://www.gerardpartners.com.au/lease/nsw/inner-west/petersham/residential/house/6057559
DTSTAMP:20210225T152145
END:VEVENT
END:VCALENDAR