BEGIN:VCALENDAR
VERSION:2.0
PRODID:Gerard Partners Real Estate Open for Inspection - "Charming Terrace
 in Perfect Location"
BEGIN:VTIMEZONE
TZID:Australia/Melbourne
BEGIN:STANDARD
DTSTART:20210227T103000
TZOFFSETTO:+1100
TZNAME:GMT+11
END:STANDARD
END:VTIMEZONE
BEGIN:VEVENT
UID:6037c034916f5
DTSTART;TZID=Australia/Melbourne:20210227T103000
SEQUENCE:0
TRANSP:OPAQUE
DTEND;TZID=Australia/Melbourne:20210227T104500
LOCATION:34 Egan Street Newtown NSW
SUMMARY:Gerard Partners Real Estate Open for Inspection - 34 Egan Street
 Newtown NSW
CLASS:PUBLIC
DESCRIPTION:Open for Inspection: 34 Egan Street Newtown NSW Saturday 27th
 Feb 10:30am - 10:45am Click the link for full listing information:
 https://www.gerardpartners.com.au/lease/nsw/inner-west/newtown/residential/house/6325156
DTSTAMP:20210225T152020
END:VEVENT
END:VCALENDAR