BEGIN:VCALENDAR
VERSION:2.0
PRODID:Gerard Partners Real Estate Open for Inspection - Rare 4 bedroom
 property in Marrickville!
BEGIN:VTIMEZONE
TZID:Australia/Melbourne
BEGIN:STANDARD
DTSTART:20210227T131500
TZOFFSETTO:+1100
TZNAME:GMT+11
END:STANDARD
END:VTIMEZONE
BEGIN:VEVENT
UID:6037c0cb031d5
DTSTART;TZID=Australia/Melbourne:20210227T131500
SEQUENCE:0
TRANSP:OPAQUE
DTEND;TZID=Australia/Melbourne:20210227T133000
LOCATION:116 Silver Street Marrickville NSW
SUMMARY:Gerard Partners Real Estate Open for Inspection - 116 Silver
 Street Marrickville NSW
CLASS:PUBLIC
DESCRIPTION:Open for Inspection: 116 Silver Street Marrickville NSW
 Saturday 27th Feb 13:15pm - 13:30pm Click the link for full listing
 information:
 https://www.gerardpartners.com.au/lease/nsw/inner-west/marrickville/residential/terrace/6165201
DTSTAMP:20210225T152251
END:VEVENT
END:VCALENDAR