BEGIN:VCALENDAR
VERSION:2.0
PRODID:Gerard Partners Real Estate Open for Inspection - Outstanding
 Studio
BEGIN:VTIMEZONE
TZID:Australia/Melbourne
BEGIN:STANDARD
DTSTART:20210227T130000
TZOFFSETTO:+1100
TZNAME:GMT+11
END:STANDARD
END:VTIMEZONE
BEGIN:VEVENT
UID:6037c0bdb8c96
DTSTART;TZID=Australia/Melbourne:20210227T130000
SEQUENCE:0
TRANSP:OPAQUE
DTEND;TZID=Australia/Melbourne:20210227T131500
LOCATION:21/3 Rayner Street Lilyfield NSW
SUMMARY:Gerard Partners Real Estate Open for Inspection - 21/3 Rayner
 Street Lilyfield NSW
CLASS:PUBLIC
DESCRIPTION:Open for Inspection: 21/3 Rayner Street Lilyfield NSW Saturday
 27th Feb 13:00pm - 13:15pm Click the link for full listing information:
 https://www.gerardpartners.com.au/lease/nsw/inner-west/lilyfield/residential/studio/6057999
DTSTAMP:20210225T152237
END:VEVENT
END:VCALENDAR