BEGIN:VCALENDAR
VERSION:2.0
PRODID:Gerard Partners Real Estate Open for Inspection - Amazing Top Floor
 Studio
BEGIN:VTIMEZONE
TZID:Australia/Melbourne
BEGIN:STANDARD
DTSTART:20210227T104500
TZOFFSETTO:+1100
TZNAME:GMT+11
END:STANDARD
END:VTIMEZONE
BEGIN:VEVENT
UID:6037c041aad9e
DTSTART;TZID=Australia/Melbourne:20210227T104500
SEQUENCE:0
TRANSP:OPAQUE
DTEND;TZID=Australia/Melbourne:20210227T110000
LOCATION:17/133-139 Marion Street Leichhardt NSW
SUMMARY:Gerard Partners Real Estate Open for Inspection - 17/133-139
 Marion Street Leichhardt NSW
CLASS:PUBLIC
DESCRIPTION:Open for Inspection: 17/133-139 Marion Street Leichhardt NSW
 Saturday 27th Feb 10:45am - 11:00am Click the link for full listing
 information:
 https://www.gerardpartners.com.au/lease/nsw/inner-west/leichhardt/residential/unit/6058109
DTSTAMP:20210225T152033
END:VEVENT
END:VCALENDAR