BEGIN:VCALENDAR
VERSION:2.0
PRODID:Gerard Partners Real Estate Open for Inspection - "Quiet &
 Convenient"
BEGIN:VTIMEZONE
TZID:Australia/Melbourne
BEGIN:STANDARD
DTSTART:20210227T102000
TZOFFSETTO:+1100
TZNAME:GMT+11
END:STANDARD
END:VTIMEZONE
BEGIN:VEVENT
UID:6037c02d690ed
DTSTART;TZID=Australia/Melbourne:20210227T102000
SEQUENCE:0
TRANSP:OPAQUE
DTEND;TZID=Australia/Melbourne:20210227T103500
LOCATION:8/12 Carlisle Street Leichhardt NSW
SUMMARY:Gerard Partners Real Estate Open for Inspection - 8/12 Carlisle
 Street Leichhardt NSW
CLASS:PUBLIC
DESCRIPTION:Open for Inspection: 8/12 Carlisle Street Leichhardt NSW
 Saturday 27th Feb 10:20am - 10:35am Click the link for full listing
 information:
 https://www.gerardpartners.com.au/lease/nsw/inner-west/leichhardt/residential/studio/6058100
DTSTAMP:20210225T152013
END:VEVENT
END:VCALENDAR