BEGIN:VCALENDAR
VERSION:2.0
PRODID:Gerard Partners Real Estate Open for Inspection - Comfortable &
 Convenient!! - 1 Week Rent Free!
BEGIN:VTIMEZONE
TZID:Australia/Melbourne
BEGIN:STANDARD
DTSTART:20210227T111500
TZOFFSETTO:+1100
TZNAME:GMT+11
END:STANDARD
END:VTIMEZONE
BEGIN:VEVENT
UID:6037c05b0af41
DTSTART;TZID=Australia/Melbourne:20210227T111500
SEQUENCE:0
TRANSP:OPAQUE
DTEND;TZID=Australia/Melbourne:20210227T113000
LOCATION:6/35 North Avenue Leichhardt NSW
SUMMARY:Gerard Partners Real Estate Open for Inspection - 6/35 North
 Avenue Leichhardt NSW
CLASS:PUBLIC
DESCRIPTION:Open for Inspection: 6/35 North Avenue Leichhardt NSW Saturday
 27th Feb 11:15am - 11:30am Click the link for full listing information:
 https://www.gerardpartners.com.au/lease/nsw/inner-west/leichhardt/residential/apartment/6058129
DTSTAMP:20210225T152059
END:VEVENT
END:VCALENDAR