BEGIN:VCALENDAR
VERSION:2.0
PRODID:Gerard Partners Real Estate Open for Inspection - Perfect Location!
BEGIN:VTIMEZONE
TZID:Australia/Melbourne
BEGIN:STANDARD
DTSTART:20210227T220000
TZOFFSETTO:+1100
TZNAME:GMT+11
END:STANDARD
END:VTIMEZONE
BEGIN:VEVENT
UID:6037c0d7af4e0
DTSTART;TZID=Australia/Melbourne:20210227T220000
SEQUENCE:0
TRANSP:OPAQUE
DTEND;TZID=Australia/Melbourne:20210227T221500
LOCATION:1/91a Balmain Road Leichhardt NSW
SUMMARY:Gerard Partners Real Estate Open for Inspection - 1/91a Balmain
 Road Leichhardt NSW
CLASS:PUBLIC
DESCRIPTION:Open for Inspection: 1/91a Balmain Road Leichhardt NSW
 Saturday 27th Feb 22:00pm - 22:15pm Click the link for full listing
 information:
 https://www.gerardpartners.com.au/lease/nsw/inner-west/leichhardt/residential/apartment/6057938
DTSTAMP:20210225T152303
END:VEVENT
END:VCALENDAR