BEGIN:VCALENDAR
VERSION:2.0
PRODID:Gerard Partners Real Estate Open for Inspection - Designer
 Lifestyle - One Bedroom Modern Unit!! - ONE WEEK RENT FREE!!
BEGIN:VTIMEZONE
TZID:Australia/Melbourne
BEGIN:STANDARD
DTSTART:20210227T100000
TZOFFSETTO:+1100
TZNAME:GMT+11
END:STANDARD
END:VTIMEZONE
BEGIN:VEVENT
UID:6037c02054fb7
DTSTART;TZID=Australia/Melbourne:20210227T100000
SEQUENCE:0
TRANSP:OPAQUE
DTEND;TZID=Australia/Melbourne:20210227T101500
LOCATION:80/10 Pyrmont Bridge Road Camperdown NSW
SUMMARY:Gerard Partners Real Estate Open for Inspection - 80/10 Pyrmont
 Bridge Road Camperdown NSW
CLASS:PUBLIC
DESCRIPTION:Open for Inspection: 80/10 Pyrmont Bridge Road Camperdown NSW
 Saturday 27th Feb 10:00am - 10:15am Click the link for full listing
 information:
 https://www.gerardpartners.com.au/lease/nsw/inner-west/camperdown/residential/apartment/6281954
DTSTAMP:20210225T152000
END:VEVENT
END:VCALENDAR