BEGIN:VCALENDAR
VERSION:2.0
PRODID:Gerard Partners Real Estate Open for Inspection - CBD Living at its
 best!
BEGIN:VTIMEZONE
TZID:Australia/Melbourne
BEGIN:STANDARD
DTSTART:20210227T123000
TZOFFSETTO:+1100
TZNAME:GMT+11
END:STANDARD
END:VTIMEZONE
BEGIN:VEVENT
UID:6037c0b0ccc0b
DTSTART;TZID=Australia/Melbourne:20210227T123000
SEQUENCE:0
TRANSP:OPAQUE
DTEND;TZID=Australia/Melbourne:20210227T124500
LOCATION:32/1 Brown Street Ashfield NSW
SUMMARY:Gerard Partners Real Estate Open for Inspection - 32/1 Brown
 Street Ashfield NSW
CLASS:PUBLIC
DESCRIPTION:Open for Inspection: 32/1 Brown Street Ashfield NSW Saturday
 27th Feb 12:30pm - 12:45pm Click the link for full listing information:
 https://www.gerardpartners.com.au/lease/nsw/inner-west/ashfield/residential/apartment/6058092
DTSTAMP:20210225T152224
END:VEVENT
END:VCALENDAR